View In:
ArcGIS JavaScript
ArcGIS Online map viewer
Google Earth
ArcMap
View Footprint In:
ArcGIS Online map viewer
Service Description: Peak ground velocity (pgv) is the maximum ground velocity that is estimated to occur at a location on the soil surface for a simulated earthquake. Data in cm/sec.
Name: EmergencyManagement/CSZ_M9p0_pgv_site
Description: Peak ground velocity (pgv) is the maximum ground velocity that is estimated to occur at a location on the soil surface for a simulated earthquake. Data in cm/sec.
Single Fused Map Cache: false
Extent:
XMin: 545817.745635
YMin: 1145201.050827
XMax: 1015137.745635
YMax: 1481801.050827
Spatial Reference: 2994
(2994)
Initial Extent:
XMin: 545817.745635
YMin: 1145201.050827
XMax: 1015137.745635
YMax: 1481801.050827
Spatial Reference: 2994
(2994)
Full Extent:
XMin: 545817.745635
YMin: 1145201.050827
XMax: 1015137.745635
YMax: 1481801.050827
Spatial Reference: 2994
(2994)
Pixel Size X: 30.0
Pixel Size Y: 30.0
Band Count: 3
Pixel Type: U8
RasterFunction Infos: N/A
Mensuration Capabilities: Basic
Has Histograms: false
Has Colormap: false
Has Multi Dimensions : false
Rendering Rule:
Min Scale: 0
Max Scale: 0
Copyright Text: This work was funded on behalf of Regional Disaster Preparedness Organization with an Urban Area Security Initiative grant for the Portland Metropolitan Region.
Service Data Type: esriImageServiceDataTypeRGB
Min Values: N/A
Max Values: N/A
Mean Values: N/A
Standard Deviation Values: N/A
Object ID Field:
Fields:
None
Default Mosaic Method: Center
Allowed Mosaic Methods:
SortField:
SortValue: null
Mosaic Operator: First
Default Compression Quality: 75
Default Resampling Method: Bilinear
Max Record Count: null
Max Image Height: 4100
Max Image Width: 15000
Max Download Image Count: null
Max Mosaic Image Count: null
Allow Raster Function: true
Allow Compute TiePoints: false
Supports Statistics: false
Supports Advanced Queries: false
Use StandardizedQueries: true
Raster Type Infos:
Name: Raster Dataset
Description: Supports all ArcGIS Raster Datasets
Help:
Has Raster Attribute Table: false
Edit Fields Info: null
Ownership Based AccessControl For Rasters: null
Child Resources:
Info
Key Properties
Legend
MultiDimensionalInfo
rasterFunctionInfos
Supported Operations:
Export Image
Identify
Measure
Compute Histograms
Get Samples
Compute Class Statistics