{ "currentVersion": 10.31, "serviceDescription": "
Peak ground velocity (pgv) is the maximum ground velocity that is estimated to occur at a location on the soil surface for a simulated earthquake. Data in cm/sec.<\/SPAN><\/P><\/DIV><\/DIV>",
"name": "EmergencyManagement/CSZ_M9p0_pgv_site",
"description": " Peak ground velocity (pgv) is the maximum ground velocity that is estimated to occur at a location on the soil surface for a simulated earthquake. Data in cm/sec.<\/SPAN><\/P><\/DIV><\/DIV>",
"extent": {
"xmin": 545817.745635,
"ymin": 1145201.050827,
"xmax": 1015137.745635,
"ymax": 1481801.050827,
"spatialReference": {
"wkid": 2994,
"latestWkid": 2994
}
},
"initialExtent": {
"xmin": 545817.745635,
"ymin": 1145201.050827,
"xmax": 1015137.745635,
"ymax": 1481801.050827,
"spatialReference": {
"wkid": 2994,
"latestWkid": 2994
}
},
"fullExtent": {
"xmin": 545817.745635,
"ymin": 1145201.050827,
"xmax": 1015137.745635,
"ymax": 1481801.050827,
"spatialReference": {
"wkid": 2994,
"latestWkid": 2994
}
},
"pixelSizeX": 30,
"pixelSizeY": 30,
"bandCount": 3,
"pixelType": "U8",
"minPixelSize": 0,
"maxPixelSize": 0,
"copyrightText": "This work was funded on behalf of Regional Disaster Preparedness Organization with an Urban Area Security Initiative grant for the Portland Metropolitan Region.",
"serviceDataType": "esriImageServiceDataTypeRGB",
"minValues": [],
"maxValues": [],
"meanValues": [],
"stdvValues": [],
"objectIdField": "",
"fields": [],
"capabilities": "Image,Metadata,Mensuration",
"defaultMosaicMethod": "Center",
"allowedMosaicMethods": "",
"sortField": "",
"sortValue": null,
"mosaicOperator": "First",
"defaultCompressionQuality": 75,
"defaultResamplingMethod": "Bilinear",
"maxImageHeight": 4100,
"maxImageWidth": 15000,
"allowRasterFunction": true,
"rasterFunctionInfos": [],
"rasterTypeInfos": [
{
"name": "Raster Dataset",
"description": "Supports all ArcGIS Raster Datasets",
"help": ""
}
],
"mensurationCapabilities": "Basic",
"hasHistograms": false,
"hasColormap": false,
"hasRasterAttributeTable": false,
"minScale": 0,
"maxScale": 0,
"exportTilesAllowed": false,
"hasMultidimensions": false,
"supportsStatistics": false,
"supportsAdvancedQueries": false,
"editFieldsInfo": null,
"ownershipBasedAccessControlForRasters": null,
"allowComputeTiePoints": false,
"useStandardizedQueries": true,
"advancedQueryCapabilities": {
"useStandardizedQueries": true,
"supportsStatistics": false,
"supportsOrderBy": false,
"supportsDistinct": false,
"supportsPagination": false
},
"spatialReference": {
"wkid": 2994,
"latestWkid": 2994
}
}