View In:
ArcGIS JavaScript
ArcGIS Online map viewer
Google Earth
ArcMap
View Footprint In:
ArcGIS Online map viewer
Service Description: Permanent ground deformation (ground failure) estimates due to earthquake-induced landslides are based on the methods outlined in the Hazus Earthquake Technical Manual (FEMA, 2011)
Name: EmergencyManagement/CSZ_M9p0_PGD_landslide_wet
Description: Permanent ground deformation (ground failure) estimates due to earthquake-induced landslides are based on the methods outlined in the Hazus Earthquake Technical Manual (FEMA, 2011)
Single Fused Map Cache: false
Extent:
XMin: 545817.745635
YMin: 1145201.050827
XMax: 1015057.745635
YMax: 1481801.050827
Spatial Reference: 2994
(2994)
Initial Extent:
XMin: 545817.745635
YMin: 1145201.050827
XMax: 1015057.745635
YMax: 1481801.050827
Spatial Reference: 2994
(2994)
Full Extent:
XMin: 545817.745635
YMin: 1145201.050827
XMax: 1015057.745635
YMax: 1481801.050827
Spatial Reference: 2994
(2994)
Pixel Size X: 10.0
Pixel Size Y: 10.0
Band Count: 1
Pixel Type: U16
RasterFunction Infos: N/A
Mensuration Capabilities: Basic
Has Histograms: true
Has Colormap: false
Has Multi Dimensions : false
Rendering Rule:
Min Scale: 0
Max Scale: 0
Copyright Text: This work was funded on behalf of Regional Disaster Preparedness Organization with an Urban Area Security Initiative grant for the Portland Metropolitan Region.
Service Data Type: esriImageServiceDataTypeGeneric
Min Values: 0
Max Values: 1094
Mean Values: 48.68179518133736
Standard Deviation Values: 152.1765595322129
Object ID Field:
Fields:
None
Default Mosaic Method: Center
Allowed Mosaic Methods:
SortField:
SortValue: null
Mosaic Operator: First
Default Compression Quality: 75
Default Resampling Method: Bilinear
Max Record Count: null
Max Image Height: 4100
Max Image Width: 15000
Max Download Image Count: null
Max Mosaic Image Count: null
Allow Raster Function: true
Allow Compute TiePoints: false
Supports Statistics: false
Supports Advanced Queries: false
Use StandardizedQueries: true
Raster Type Infos:
Name: Raster Dataset
Description: Supports all ArcGIS Raster Datasets
Help:
Has Raster Attribute Table: true
Edit Fields Info: null
Ownership Based AccessControl For Rasters: null
Child Resources:
Info
Raster Attribute Table
Histograms
Key Properties
Legend
MultiDimensionalInfo
rasterFunctionInfos
Supported Operations:
Export Image
Identify
Measure
Compute Histograms
Get Samples
Compute Class Statistics