{ "currentVersion": 10.31, "serviceDescription": "
Permanent ground deformation (ground failure) estimates due to earthquake-induced landslides are based on the methods outlined in the Hazus Earthquake Technical Manual (FEMA, 2011)<\/SPAN><\/P><\/DIV><\/DIV>",
"name": "EmergencyManagement/CSZ_M9p0_PGD_landslide_wet",
"description": " Permanent ground deformation (ground failure) estimates due to earthquake-induced landslides are based on the methods outlined in the Hazus Earthquake Technical Manual (FEMA, 2011)<\/SPAN><\/P><\/DIV><\/DIV>",
"extent": {
"xmin": 545817.745635,
"ymin": 1145201.050827,
"xmax": 1015057.745635,
"ymax": 1481801.050827,
"spatialReference": {
"wkid": 2994,
"latestWkid": 2994
}
},
"initialExtent": {
"xmin": 545817.745635,
"ymin": 1145201.050827,
"xmax": 1015057.745635,
"ymax": 1481801.050827,
"spatialReference": {
"wkid": 2994,
"latestWkid": 2994
}
},
"fullExtent": {
"xmin": 545817.745635,
"ymin": 1145201.050827,
"xmax": 1015057.745635,
"ymax": 1481801.050827,
"spatialReference": {
"wkid": 2994,
"latestWkid": 2994
}
},
"pixelSizeX": 10,
"pixelSizeY": 10,
"bandCount": 1,
"pixelType": "U16",
"minPixelSize": 0,
"maxPixelSize": 0,
"copyrightText": "This work was funded on behalf of Regional Disaster Preparedness Organization with an Urban Area Security Initiative grant for the Portland Metropolitan Region.",
"serviceDataType": "esriImageServiceDataTypeGeneric",
"minValues": [
0
],
"maxValues": [
1094
],
"meanValues": [
48.68179518133736
],
"stdvValues": [
152.1765595322129
],
"objectIdField": "",
"fields": [],
"capabilities": "Image,Metadata,Mensuration",
"defaultMosaicMethod": "Center",
"allowedMosaicMethods": "",
"sortField": "",
"sortValue": null,
"mosaicOperator": "First",
"defaultCompressionQuality": 75,
"defaultResamplingMethod": "Bilinear",
"maxImageHeight": 4100,
"maxImageWidth": 15000,
"allowRasterFunction": true,
"rasterFunctionInfos": [],
"rasterTypeInfos": [
{
"name": "Raster Dataset",
"description": "Supports all ArcGIS Raster Datasets",
"help": ""
}
],
"mensurationCapabilities": "Basic",
"hasHistograms": true,
"hasColormap": false,
"hasRasterAttributeTable": true,
"minScale": 0,
"maxScale": 0,
"exportTilesAllowed": false,
"hasMultidimensions": false,
"supportsStatistics": false,
"supportsAdvancedQueries": false,
"editFieldsInfo": null,
"ownershipBasedAccessControlForRasters": null,
"allowComputeTiePoints": false,
"useStandardizedQueries": true,
"advancedQueryCapabilities": {
"useStandardizedQueries": true,
"supportsStatistics": false,
"supportsOrderBy": false,
"supportsDistinct": false,
"supportsPagination": false
},
"spatialReference": {
"wkid": 2994,
"latestWkid": 2994
}
}