<?xml version="1.0" encoding="UTF-8" standalone="no"?>
<metadata>
<idinfo>
<citation>
<citeinfo>
<origin>Oregon Department of Geology and Mineral Industries</origin>
<pubdate>2018</pubdate>
<title>Permanent Ground Deformation due to earthquake-induced landslides, Cascadia Subduction Zone Magnitude 9.0 scenario, Wet Soil Conditions, for Clackamas, Multnomah, and Washington Counties, Oregon</title>
<geoform>raster digital data</geoform>
<serinfo>
<sername>Oregon Department of Geology and Mineral Industries Open-File Report</sername>
<issue>Open-File Report O-18-02</issue>
</serinfo>
<pubinfo>
<pubplace>Portland, Oregon, USA</pubplace>
<publish>Oregon Department of Geology and Mineral Industries </publish>
</pubinfo>
<onlink>http://www.oregongeology.org</onlink>
<lworkcit>
<citeinfo>
<origin>Oregon Department of Geology and Mineral Industries</origin>
<pubdate>2018</pubdate>
<title>Earthquake regional impact analysis for Clackamas, Multnomah, and Washington Counties, Oregon</title>
<geoform>file geodatabase</geoform>
<serinfo>
<sername>Oregon Department of Geology and Mineral Industries Open-File Report</sername>
<issue>Open-File Report O-18-02</issue>
</serinfo>
<pubinfo>
<pubplace>Portland, Oregon, USA</pubplace>
<publish>Oregon Department of Geology and Mineral Industries</publish>
</pubinfo>
<onlink>http://www.oregongeology.org/</onlink>
</citeinfo>
</lworkcit>
</citeinfo>
</citation>
<descript>
<abstract>Permanent ground deformation (ground failure) estimates due to earthquake-induced landslides are based on the methods outlined in the Hazus Earthquake Technical Manual (FEMA, 2011)</abstract>
<purpose>For use in assessing potential damage to buildings and infrastructure resulting from an earthquake.</purpose>
<supplinf>Permanent Ground Deformation data is accompanied with a Probability value. See accompanying geodatabase and the CSZ_M9p0_Prob_landslide_wet raster dataset. Landslides can occur without seismic activity. This data should not be used as an indication of landslide susceptibility.</supplinf>
</descript>
<timeperd>
<timeinfo>
<sngdate>
<caldate>2018</caldate>
</sngdate>
</timeinfo>
</timeperd>
<status>
<progress>Complete</progress>
<update>None planned</update>
</status>
<keywords>
<theme>
<themekt>ISO 19115 Topic Category</themekt>
<themekey>geoscientificinformation</themekey>
</theme>
<theme>
<themekt>Oregon Geospatial Enterprise Office Metadata Keyword Thesaurus</themekt>
<themekey>landslide</themekey>
<themekey>landslide risk</themekey>
<themekey>lateral spread</themekey>
<themekey>earthquake hazard</themekey>
<themekey>earthquake risk</themekey>
</theme>
<place>
<placekt>Oregon Geospatial Enterprise Office Metadata Keyword Thesaurus</placekt>
<placekey>Clackamas</placekey>
<placekey>Multnomah</placekey>
<placekey>Washington</placekey>
</place>
<stratum>
<stratkt>Oregon Geospatial Enterprise Office Metadata Keyword Thesaurus</stratkt>
<stratkey>Land surface</stratkey>
<stratkey>subsurface</stratkey>
<stratkey>subsoil</stratkey>
</stratum>
<temporal>
<tempkt>Oregon Geospatial Enterprise Office Metadata Keyword Thesaurus</tempkt>
</temporal>
</keywords>
<accconst>None</accconst>
<useconst>REPORT DATA: This product is for informational purposes and may not have been prepared for or be suitable for legal, engineering, or surveying purposes. Users of this information should review or consult the primary data and information sources to ascertain the usability of the information. This publication cannot substitute for site-specific investigations by qualified practitioners. Site-specific data may give results that differ from the results shown in the publication. See the accompanying text report for more details on the limitations of the methods and data used to prepare this publication.</useconst>
<ptcontac>
<cntinfo>
<cntorgp>
<cntorg>Oregon Department of Geology and Mineral Industries </cntorg>
</cntorgp>
<cntaddr>
<addrtype>mailing and physical address</addrtype>
<address>800 NE Oregon Street Suite 965</address>
<city>Portland</city>
<state>Oregon</state>
<postal>97232</postal>
<country>USA</country>
</cntaddr>
<cntvoice>1 971 673 1555</cntvoice>
<cntfax>1 971 673 1562</cntfax>
<cntemail>dogami-info@oregon.gov</cntemail>
<cntinst>When contacting DOGAMI about this data set, please reference the data set title or other identifying information in your correspondence. DOGAMI publications can be downloaded from http://www.oregongeology.org</cntinst>
</cntinfo>
<cntinfo>
<cntperp>
<cntper>John Bauer</cntper>
<cntorg>Oregon Department of Geology and Mineral Industries </cntorg>
</cntperp>
<cntpos>Geohazards Analyst</cntpos>
</cntinfo>
</ptcontac>
<browse>
<browset>jpeg image (.jpg)</browset>
</browse>
<datacred>This work was funded on behalf of Regional Disaster Preparedness Organization with an Urban Area Security Initiative grant for the Portland Metropolitan Region.</datacred>
<secinfo>
<secclass>Unclassified</secclass>
</secinfo>
</idinfo>
<dataqual>
<attracc>
<attraccr>Permanent ground deformation is an estimate of the maximum displacement that could occur at a site, given generalized geologic conditions and assumptions on site ground motion. In practice, local site variations may differ significantly from our generalized assumptions, such as anthropogenic modifications to surface water drainage.</attraccr>
</attracc>
<logic>Known boundary conditions occur in the dataset, typically on 7.5-minute quadrangle boundaries, due to the heterogeneity of the geologic source data available for the study area. The Hazus AEBM model returns a permanent ground deformation and ground failure probability for a given peak ground acceleration, liquefaction susceptibility setting, and landslide susceptibility setting. We verified that the pointfile outputs of the Hazus AEBM model were consistent with the continuous raster data generated by the tool used to generate this dataset (Sharifi-Mood and others).</logic>
<complete>The three-county area is covered in its entirety.</complete>
<posacc>
<vertacc>
<vertaccr>not applicable</vertaccr>
</vertacc>
</posacc>
<lineage>
<srcinfo>
<srccite>
<citeinfo>
<origin>Oregon Department of Geology and Mineral Industries </origin>
<title>Oregon Geologic Data Compilation</title>
<geoform>vector digital data</geoform>
<serinfo>
<sername>Oregon Department of Geology and Mineral Industries Digital Data</sername>
<issue>OGDC-6</issue>
</serinfo>
<pubinfo>
<pubplace>Portland, Oregon</pubplace>
<publish>Oregon Department of Geology and Mineral Industries </publish>
</pubinfo>
<onlink>http://www.oregongeology.org/pubs/dds/p-OGDC-6.htm</onlink>
</citeinfo>
</srccite>
<srctime>
<timeinfo>
<sngdate>
<caldate>2015</caldate>
</sngdate>
</timeinfo>
</srctime>
</srcinfo>
<srcinfo>
<srccite>
<citeinfo>
<origin>Oregon Department of Geology and Mineral Industries </origin>
<pubdate>2017</pubdate>
<title>Statewide Landslide Information Database for Oregon</title>
<edition>Release 3</edition>
<serinfo>
<sername>Oregon Department of Geology and Mineral Industries Digital Data</sername>
</serinfo>
<pubinfo>
<pubplace>Portland, Oregon</pubplace>
<publish>Oregon Department of Geology and Mineral Industries </publish>
</pubinfo>
</citeinfo>
</srccite>
</srcinfo>
<procstep>
<procdesc>Geology data from Oregon Geologic Data Compilation (DOGAMI, 2015) was updated with mapped landslide information contained in Statewide Landslide Information Database for Oregon (DOGAMI, 2017). Geologic groups, including "existing landslides", were then categorized into A, B, C designations based on the groundwater level (wet scenario, dry scenario), as specified in Table 4.15 of the FEMA Hazus Earthquake Technical Manual (FEMA, 2011). Data were converted to a 10-ft raster grid for use in Hazus model.</procdesc>
<procdesc>A raster slope surface of the study area was created from available lidar bare-earth surface elevation model, and where not available, from the USGS 10-meter DEM. Cell size was set to 10 ft.</procdesc>
<procdesc>The two datasets in the previous process steps, and the site peak ground acceleration data for a Cascadia Subduction Zone M 9.0 earthquake (CSZ_M9p0_pga_site), were provided as inputs to the Soil Deformation tool developed by Sharifi-Mood and others. The tool returns permanent ground deformation (in cm) from earthquake-induced landslide, along with a probability of occurrence.</procdesc>
<proccont>
<cntinfo>
<cntorgp>
<cntorg>Oregon Department of Geology and Mineral Industries </cntorg>
</cntorgp>
<cntaddr>
<addrtype>mailing and physical address</addrtype>
<address>800 NE Oregon Street Suite 965</address>
<city>Portland</city>
<state>Oregon</state>
<postal>97232</postal>
<country>USA</country>
</cntaddr>
<cntvoice>1 971 673 1555</cntvoice>
<cntfax>1 971 673 1562</cntfax>
<cntemail>dogami-info@oregon.gov</cntemail>
<cntinst>When contacting DOGAMI about this data set, please reference the data set title or other identifying information in your correspondence. DOGAMI publications can be downloaded from http://www.oregongeology.org</cntinst>
</cntinfo>
</proccont>
</procstep>
</lineage>
</dataqual>
<eainfo>
<detailed Name="VAT_CSZ_M9p0_PGD_landslide_wet">
<enttyp>
<enttypl>FEMA, 2011</enttypl>
<enttypd>Earthquake-induced landslide model</enttypd>
<enttypds>Federal Emergency Management Agency, 2011, Hazus-MH 2.1 Technical manual, Earthquake model: Washington, D.C., 718 p.</enttypds>
<enttypt Sync="TRUE">Table</enttypt>
<enttypc Sync="TRUE">1085</enttypc>
</enttyp>
<attr>
<attrlabl Sync="TRUE">OBJECTID</attrlabl>
<attalias Sync="TRUE">OBJECTID</attalias>
<attrtype Sync="TRUE">OID</attrtype>
<attwidth Sync="TRUE">4</attwidth>
<atprecis Sync="TRUE">0</atprecis>
<attscale Sync="TRUE">0</attscale>
<attrdef Sync="TRUE">Internal feature number.</attrdef>
<attrdefs Sync="TRUE">Esri</attrdefs>
<attrdomv>
<udom Sync="TRUE">Sequential unique whole numbers that are automatically generated.</udom>
</attrdomv>
</attr>
<attr>
<attrlabl>VALUE</attrlabl>
<attrdef>Amount of ground deformation that may occur due to earthquake-induced landslide, in cm</attrdef>
<attrdefs>FEMA, 2011</attrdefs>
<attalias Sync="TRUE">Value</attalias>
<attrtype Sync="TRUE">Integer</attrtype>
<attwidth Sync="TRUE">4</attwidth>
<atprecis Sync="TRUE">0</atprecis>
<attscale Sync="TRUE">0</attscale>
</attr>
<attr>
<attrlabl Sync="TRUE">Count</attrlabl>
<attalias Sync="TRUE">Count</attalias>
<attrtype Sync="TRUE">Double</attrtype>
<attwidth Sync="TRUE">8</attwidth>
<atprecis Sync="TRUE">0</atprecis>
<attscale Sync="TRUE">0</attscale>
</attr>
</detailed>
</eainfo>
<distinfo>
<distrib>
<cntinfo>
<cntorgp>
<cntorg>Oregon Department of Geology and Mineral Industries </cntorg>
</cntorgp>
<cntaddr>
<addrtype>mailing and physical address</addrtype>
<address>800 NE Oregon Street Suite 965</address>
<city>Portland</city>
<state>Oregon</state>
<postal>97232</postal>
<country>USA</country>
</cntaddr>
<cntvoice>1 971 673 1555</cntvoice>
<cntfax>1 971 673 1562</cntfax>
<cntemail>dogami-info@oregon.gov</cntemail>
<cntinst>When contacting DOGAMI about this data set, please reference the data set title or other identifying information in your correspondence. DOGAMI publications can be downloaded from http://www.oregongeology.org</cntinst>
</cntinfo>
</distrib>
<distliab>Although these data have been processed successfully on a computer system at the Oregon Department of Geology and Mineral Industries, no warranty expressed or implied is made by DOGAMI regarding the utility of the data on any other system, nor shall the act of distribution constitute any such warranty.</distliab>
</distinfo>
<metainfo>
<metc>
<cntinfo>
<cntorgp>
<cntorg>Oregon Department of Geology and Mineral Industries </cntorg>
</cntorgp>
<cntaddr>
<addrtype>mailing and physical address</addrtype>
<address>800 NE Oregon Street Suite 965</address>
<city>Portland</city>
<state>Oregon</state>
<postal>97232</postal>
<country>USA</country>
</cntaddr>
<cntvoice>1 971 673 1555</cntvoice>
<cntfax>1 971 673 1562</cntfax>
<cntemail>dogami-info@oregon.gov</cntemail>
<cntinst>When contacting DOGAMI about this data set, please reference the data set title or other identifying information in your correspondence. DOGAMI publications can be downloaded from http://www.oregongeology.org</cntinst>
</cntinfo>
</metc>
<metstdn>Oregon Department of Geology and Mineral Industries Metadata Standard</metstdn>
<metstdv>1.4</metstdv>
<metac>None</metac>
<metuc>None</metuc>
<metsi>
<metscs>None</metscs>
<metsc>None</metsc>
<metshd>None</metshd>
</metsi>
</metainfo>
<dataIdInfo>
<idPurp>For use in assessing potential damage to buildings and infrastructure resulting from an earthquake.</idPurp>
<idAbs>&lt;DIV STYLE="text-align:Left;"&gt;&lt;DIV&gt;&lt;P&gt;&lt;SPAN&gt;Permanent ground deformation (ground failure) estimates due to earthquake-induced landslides are based on the methods outlined in the Hazus Earthquake Technical Manual (FEMA, 2011)&lt;/SPAN&gt;&lt;/P&gt;&lt;/DIV&gt;&lt;/DIV&gt;</idAbs>
<idCredit>This work was funded on behalf of Regional Disaster Preparedness Organization with an Urban Area Security Initiative grant for the Portland Metropolitan Region.</idCredit>
<idCitation>
<resTitle>Permanent Ground Deformation due to earthquake-induced landslides, Cascadia Subduction Zone Magnitude 9.0 scenario, Wet Soil Conditions, for Clackamas, Multnomah, and Washington Counties, Oregon</resTitle>
<presForm>
<PresFormCd Sync="TRUE" value="011">
</PresFormCd>
</presForm>
</idCitation>
<searchKeys>
<keyword>geoscientificinformation</keyword>
<keyword>landslide</keyword>
<keyword>landslide risk</keyword>
<keyword>lateral spread</keyword>
<keyword>earthquake hazard</keyword>
<keyword>earthquake risk</keyword>
</searchKeys>
<resConst>
<Consts>
<useLimit>&lt;DIV STYLE="text-align:Left;"&gt;&lt;DIV&gt;&lt;P&gt;&lt;SPAN&gt;REPORT DATA: This product is for informational purposes and may not have been prepared for or be suitable for legal, engineering, or surveying purposes. Users of this information should review or consult the primary data and information sources to ascertain the usability of the information. This publication cannot substitute for site-specific investigations by qualified practitioners. Site-specific data may give results that differ from the results shown in the publication. See the accompanying text report for more details on the limitations of the methods and data used to prepare this publication.&lt;/SPAN&gt;&lt;/P&gt;&lt;/DIV&gt;&lt;/DIV&gt;</useLimit>
</Consts>
</resConst>
<envirDesc Sync="TRUE"> Version 6.2 (Build 9200) ; Esri ArcGIS 10.4.1.5686</envirDesc>
<dataLang>
<languageCode Sync="TRUE" value="eng">
</languageCode>
<countryCode Sync="TRUE" value="USA">
</countryCode>
</dataLang>
<spatRpType>
<SpatRepTypCd Sync="TRUE" value="002">
</SpatRepTypCd>
</spatRpType>
<dataExt>
<geoEle>
<GeoBndBox esriExtentType="search">
<exTypeCode Sync="TRUE">1</exTypeCode>
<westBL Sync="TRUE">-123.504316</westBL>
<eastBL Sync="TRUE">-121.647165</eastBL>
<northBL Sync="TRUE">45.809188</northBL>
<southBL Sync="TRUE">44.853936</southBL>
</GeoBndBox>
</geoEle>
</dataExt>
</dataIdInfo>
<Esri>
<ModDate>20180706</ModDate>
<ModTime>11040900</ModTime>
<scaleRange>
<minScale>150000000</minScale>
<maxScale>5000</maxScale>
</scaleRange>
<ArcGISFormat>1.0</ArcGISFormat>
<ArcGISProfile>FGDC</ArcGISProfile>
<DataProperties>
<itemProps>
<itemName Sync="TRUE">CSZ_M9p0_PGD_landslide_wet</itemName>
<imsContentType Sync="TRUE">002</imsContentType>
<nativeExtBox>
<westBL Sync="TRUE">545817.745635</westBL>
<eastBL Sync="TRUE">1015057.745635</eastBL>
<southBL Sync="TRUE">1145201.050827</southBL>
<northBL Sync="TRUE">1481801.050827</northBL>
<exTypeCode Sync="TRUE">1</exTypeCode>
</nativeExtBox>
</itemProps>
<coordRef>
<type Sync="TRUE">Projected</type>
<geogcsn Sync="TRUE">GCS_North_American_1983_HARN</geogcsn>
<csUnits Sync="TRUE">Linear Unit: Foot (0.304800)</csUnits>
<projcsn Sync="TRUE">NAD_1983_HARN_Oregon_Statewide_Lambert_Feet_Intl</projcsn>
<peXml Sync="TRUE">&lt;ProjectedCoordinateSystem xsi:type='typens:ProjectedCoordinateSystem' xmlns:xsi='http://www.w3.org/2001/XMLSchema-instance' xmlns:xs='http://www.w3.org/2001/XMLSchema' xmlns:typens='http://www.esri.com/schemas/ArcGIS/10.4'&gt;&lt;WKT&gt;PROJCS[&amp;quot;NAD_1983_HARN_Oregon_Statewide_Lambert_Feet_Intl&amp;quot;,GEOGCS[&amp;quot;GCS_North_American_1983_HARN&amp;quot;,DATUM[&amp;quot;D_North_American_1983_HARN&amp;quot;,SPHEROID[&amp;quot;GRS_1980&amp;quot;,6378137.0,298.257222101]],PRIMEM[&amp;quot;Greenwich&amp;quot;,0.0],UNIT[&amp;quot;Degree&amp;quot;,0.0174532925199433]],PROJECTION[&amp;quot;Lambert_Conformal_Conic&amp;quot;],PARAMETER[&amp;quot;False_Easting&amp;quot;,1312335.958005249],PARAMETER[&amp;quot;False_Northing&amp;quot;,0.0],PARAMETER[&amp;quot;Central_Meridian&amp;quot;,-120.5],PARAMETER[&amp;quot;Standard_Parallel_1&amp;quot;,43.0],PARAMETER[&amp;quot;Standard_Parallel_2&amp;quot;,45.5],PARAMETER[&amp;quot;Latitude_Of_Origin&amp;quot;,41.75],UNIT[&amp;quot;Foot&amp;quot;,0.3048],AUTHORITY[&amp;quot;EPSG&amp;quot;,2994]]&lt;/WKT&gt;&lt;XOrigin&gt;-118489100&lt;/XOrigin&gt;&lt;YOrigin&gt;-97381100&lt;/YOrigin&gt;&lt;XYScale&gt;37592196.316242374&lt;/XYScale&gt;&lt;ZOrigin&gt;0&lt;/ZOrigin&gt;&lt;ZScale&gt;1&lt;/ZScale&gt;&lt;MOrigin&gt;0&lt;/MOrigin&gt;&lt;MScale&gt;1&lt;/MScale&gt;&lt;XYTolerance&gt;0.0032808398950131233&lt;/XYTolerance&gt;&lt;ZTolerance&gt;0.001&lt;/ZTolerance&gt;&lt;MTolerance&gt;0.001&lt;/MTolerance&gt;&lt;HighPrecision&gt;true&lt;/HighPrecision&gt;&lt;WKID&gt;2994&lt;/WKID&gt;&lt;LatestWKID&gt;2994&lt;/LatestWKID&gt;&lt;/ProjectedCoordinateSystem&gt;</peXml>
</coordRef>
</DataProperties>
<SyncDate>20180706</SyncDate>
<SyncTime>11040900</SyncTime>
</Esri>
<mdHrLv>
<ScopeCd value="005">
</ScopeCd>
</mdHrLv>
<mdLang>
<languageCode Sync="TRUE" value="eng">
</languageCode>
<countryCode Sync="TRUE" value="USA">
</countryCode>
</mdLang>
<distInfo>
<distFormat>
<formatName Sync="TRUE">File Geodatabase Raster Dataset</formatName>
</distFormat>
</distInfo>
<mdHrLvName Sync="TRUE">dataset</mdHrLvName>
<refSysInfo>
<RefSystem>
<refSysID>
<identCode Sync="TRUE" code="2994">
</identCode>
<idCodeSpace Sync="TRUE">EPSG</idCodeSpace>
<idVersion Sync="TRUE">8.5(9.0.0)</idVersion>
</refSysID>
</RefSystem>
</refSysInfo>
<spdoinfo>
<rastinfo>
<rasttype Sync="TRUE">Pixel</rasttype>
<rowcount Sync="TRUE">33660</rowcount>
<colcount Sync="TRUE">46924</colcount>
<rastxsz Sync="TRUE">10.000000</rastxsz>
<rastysz Sync="TRUE">10.000000</rastysz>
<rastbpp Sync="TRUE">16</rastbpp>
<vrtcount Sync="TRUE">1</vrtcount>
<rastorig Sync="TRUE">Upper Left</rastorig>
<rastcmap Sync="TRUE">FALSE</rastcmap>
<rastcomp Sync="TRUE">LZ77</rastcomp>
<rastband Sync="TRUE">1</rastband>
<rastdtyp Sync="TRUE">pixel codes</rastdtyp>
<rastifor Sync="TRUE">FGDBR</rastifor>
<rastplyr Sync="TRUE">TRUE</rastplyr>
</rastinfo>
</spdoinfo>
<spref>
<horizsys>
<planar>
<planci>
<plance Sync="TRUE">row and column</plance>
<coordrep>
<absres Sync="TRUE">10.000000</absres>
<ordres Sync="TRUE">10.000000</ordres>
</coordrep>
</planci>
</planar>
</horizsys>
</spref>
<mdDateSt Sync="TRUE">20180706</mdDateSt>
</metadata>
